BEGIN:VCALENDAR
VERSION:2.0
METHOD:PUBLISH
PRODID:-//imacoda.com//SPD-Web-O-Mat//EN
CALSCALE:GREGORIAN
BEGIN:VTIMEZONE
TZID:Europe/Berlin
BEGIN:DAYLIGHT
TZOFFSETFROM:+0100
RRULE:FREQ=YEARLY;BYMONTH=3;BYDAY=-1SU
DTSTART:19810329T020000
TZNAME:MESZ
TZOFFSETTO:+0200
END:DAYLIGHT
BEGIN:STANDARD
TZOFFSETFROM:+0200
RRULE:FREQ=YEARLY;BYMONTH=10;BYDAY=-1SU
DTSTART:19961027T030000
TZNAME:MEZ
TZOFFSETTO:+0100
END:STANDARD
END:VTIMEZONE
BEGIN:VEVENT
UID:20200205T233910Z-00000517788-LULU@www.bayernspd.de
CREATED:20200205T233910Z
LAST-MODIFIED:20220118T151815Z
DTSTAMP:20220118T151815Z
TRANSP:TRANSPARENT
DTSTART;TZID=Europe/Berlin:20200706T193000
DTEND;TZID=Europe/Berlin:20200706T193000
SUMMARY:Sitzung des Unterbezirksausschusses der SPD Augsburg
LOCATION:digital
DESCRIPTION:Termin im Web (SPD-Unterbezirk Augsburg):\nhttps://spd-augsb
 urg.de/termine/?id=517788
END:VEVENT
END:VCALENDAR
